BEGIN:VCALENDAR
VERSION:2.0
PRODID:SchoolNow
CALSCALE:GREGORIAN
BEGIN:VEVENT
UID:6bdb9026-3c41-11f1-b916-0ee1893dd049
DTSTAMP:20260419T224510Z
SUMMARY:Coach Clinton Open Basketball
URL;VALUE=URI:https://www.gusdschools.org/calendar/9005679/coach-clinton-op
 en-basketball
DTSTART:20260422T210000Z
DTEND:20260422T223000Z
END:VEVENT
END:VCALENDAR
