BEGIN:VCALENDAR
VERSION:2.0
PRODID:SchoolNow
CALSCALE:GREGORIAN
BEGIN:VEVENT
UID:4d405390-d229-11f0-b9a1-0a58a9feac02
DTSTAMP:20251216T200026Z
SUMMARY:GPA's Holiday Faire
LOCATION:Hillcrest Middle School\, 725 Bloomfield Rd\, Sebastopol\, CA 9547
 2\, USA
URL;VALUE=URI:https://www.gusdschools.org/calendar/8818712/gpas-holiday-fai
 re
DTSTART:20251213T180000Z
DTEND:20251213T200000Z
END:VEVENT
END:VCALENDAR
