BEGIN:VCALENDAR
VERSION:2.0
PRODID:SchoolNow
CALSCALE:GREGORIAN
BEGIN:VEVENT
UID:b5c21d22-ca31-11f0-8290-02b77bf213c1
DTSTAMP:20251216T200026Z
SUMMARY:Dine and Donate at Shake Shack in Montgomery Village - GPA Fundrais
 er
URL;VALUE=URI:https://www.gusdschools.org/calendar/8809747/dine-and-donate-
 at-shake-shack-in-montgomery-village-gpa-fundraiser
DTSTART;VALUE=DATE:20251203
DTEND;VALUE=DATE:20251204
END:VEVENT
END:VCALENDAR
