BEGIN:VCALENDAR
VERSION:2.0
PRODID:SchoolNow
CALSCALE:GREGORIAN
BEGIN:VEVENT
UID:0be981f4-c339-11f0-a83a-0affe2eac319
DTSTAMP:20251216T200026Z
SUMMARY:HMS Winter Concert
URL;VALUE=URI:https://www.gusdschools.org/calendar/8798816/hms-winter-conce
 rt
DTSTART:20251212T010000Z
DTEND:20251212T030000Z
END:VEVENT
END:VCALENDAR
