BEGIN:VCALENDAR
VERSION:2.0
PRODID:SchoolNow
CALSCALE:GREGORIAN
BEGIN:VEVENT
UID:1e332ac4-c1d4-11f0-88db-0a58a9feac02
DTSTAMP:20251216T200026Z
SUMMARY:Gravenstein Winter Concert - at Hillcrest
LOCATION:Hillcrest Middle School\, 725 Bloomfield Rd\, Sebastopol\, CA 9547
 2\, USA
URL;VALUE=URI:https://www.gusdschools.org/calendar/8796662/gravenstein-wint
 er-concert-at-hillcrest
DTSTART:20251217T010000Z
DTEND:20251217T020000Z
END:VEVENT
END:VCALENDAR
