BEGIN:VCALENDAR
VERSION:2.0
PRODID:SchoolNow
CALSCALE:GREGORIAN
BEGIN:VEVENT
UID:a82b9c0c-b6df-11f0-a57e-0a58a9feac02
DTSTAMP:20251216T200026Z
SUMMARY:Daylight Savings Ends - Turn your clocks back one hour
URL;VALUE=URI:https://www.gusdschools.org/calendar/8766416/daylight-savings
 -ends-turn-your-clocks-back-one-hour
DTSTART:20251102T100000Z
DTEND:20251102T103000Z
END:VEVENT
END:VCALENDAR
