BEGIN:VCALENDAR
VERSION:2.0
PRODID:SchoolNow
CALSCALE:GREGORIAN
BEGIN:VEVENT
UID:a82b9ad6-b6df-11f0-b52d-0a58a9feac02
DTSTAMP:20251216T200026Z
SUMMARY:Copperfield's Books "Money for Schools" Fundraiser
URL;VALUE=URI:https://www.gusdschools.org/calendar/8766415/copperfields-boo
 ks-money-for-schools-fundraiser
DTSTART;VALUE=DATE:20251107
DTEND;VALUE=DATE:20251110
END:VEVENT
END:VCALENDAR
