BEGIN:VCALENDAR
VERSION:2.0
PRODID:SchoolNow
CALSCALE:GREGORIAN
BEGIN:VEVENT
UID:a82b993c-b6df-11f0-967d-0a58a9feac02
DTSTAMP:20251216T200026Z
SUMMARY:Veterans' Day - NO SCHOOL
URL;VALUE=URI:https://www.gusdschools.org/calendar/8766414/veterans-day-no-
 school
DTSTART;VALUE=DATE:20251111
DTEND;VALUE=DATE:20251112
END:VEVENT
END:VCALENDAR
