BEGIN:VCALENDAR
VERSION:2.0
PRODID:SchoolNow
CALSCALE:GREGORIAN
BEGIN:VEVENT
UID:a82b76aa-b6df-11f0-a850-0a58a9feac02
DTSTAMP:20251216T200026Z
SUMMARY:Emergency Day - NO SCHOOL
URL;VALUE=URI:https://www.gusdschools.org/calendar/8766413/emergency-day-no
 -school
DTSTART;VALUE=DATE:20251110
DTEND;VALUE=DATE:20251111
END:VEVENT
END:VCALENDAR
