BEGIN:VCALENDAR
VERSION:2.0
PRODID:SchoolNow
CALSCALE:GREGORIAN
BEGIN:VEVENT
UID:de8fa97e-b2b0-11f0-8b71-0a58a9feac02
DTSTAMP:20251216T200026Z
SUMMARY:Skate Night - GPA sponsored
LOCATION:Cal Skate of Rohnert Park\, 6100 Commerce Blvd\, Rohnert Park\, CA
  94928\, USA
URL;VALUE=URI:https://www.gusdschools.org/calendar/8751979/skate-night-gpa-
 sponsored
DTSTART:20251108T013000Z
DTEND:20251108T033000Z
END:VEVENT
END:VCALENDAR
