BEGIN:VCALENDAR
VERSION:2.0
PRODID:SchoolNow
CALSCALE:GREGORIAN
BEGIN:VEVENT
UID:636e5508-ad31-11f0-ae42-0a58a9feac02
DTSTAMP:20251216T200026Z
SUMMARY:Disneyland Band Trip Planning Meeting
URL;VALUE=URI:https://www.gusdschools.org/calendar/8734475/disneyland-band-
 trip-planning-meeting
DTSTART:20251022T000000Z
DTEND:20251022T003000Z
END:VEVENT
END:VCALENDAR
