BEGIN:VCALENDAR
VERSION:2.0
PRODID:SchoolNow
CALSCALE:GREGORIAN
BEGIN:VEVENT
UID:636e4ffe-ad31-11f0-a0ea-0a58a9feac02
DTSTAMP:20251216T200026Z
SUMMARY:GPA Spaghetti Social at HMS
URL;VALUE=URI:https://www.gusdschools.org/calendar/8734474/gpa-spaghetti-so
 cial-at-hms
DTSTART:20251115T010000Z
DTEND:20251115T030000Z
END:VEVENT
END:VCALENDAR
