BEGIN:VCALENDAR
VERSION:2.0
PRODID:SchoolNow
CALSCALE:GREGORIAN
BEGIN:VEVENT
UID:78bc2280-ab99-11f0-8a39-02682962fca9
DTSTAMP:20251216T200026Z
SUMMARY:English Learner Advisory Committee
URL;VALUE=URI:https://www.gusdschools.org/calendar/8730246/english-learner-
 advisory-committee
DTSTART:20251114T163000Z
DTEND:20251114T173000Z
END:VEVENT
END:VCALENDAR
