BEGIN:VCALENDAR
VERSION:2.0
PRODID:SchoolNow
CALSCALE:GREGORIAN
BEGIN:VEVENT
UID:0cb785ce-9c13-11f0-b0f5-0a58a9feac02
DTSTAMP:20251216T200026Z
SUMMARY:Jog a thon - Grade 3
URL;VALUE=URI:https://www.gusdschools.org/calendar/8671992/jog-a-thon-grade
 -3
DTSTART:20251023T161500Z
DTEND:20251023T171500Z
END:VEVENT
END:VCALENDAR
