BEGIN:VCALENDAR
VERSION:2.0
PRODID:SchoolNow
CALSCALE:GREGORIAN
BEGIN:VEVENT
UID:0cb784d4-9c13-11f0-bab7-0a58a9feac02
DTSTAMP:20251216T200026Z
SUMMARY:Jog a thon - TK/K
URL;VALUE=URI:https://www.gusdschools.org/calendar/8671991/jog-a-thon-tk-k
DTSTART:20251021T160000Z
DTEND:20251021T170000Z
END:VEVENT
END:VCALENDAR
