BEGIN:VCALENDAR
VERSION:2.0
PRODID:SchoolNow
CALSCALE:GREGORIAN
BEGIN:VEVENT
UID:0cb7839e-9c13-11f0-b09f-0a58a9feac02
DTSTAMP:20251216T200026Z
SUMMARY:Jog a thon - Grade 5
URL;VALUE=URI:https://www.gusdschools.org/calendar/8671990/jog-a-thon-grade
 -5
DTSTART:20251023T180000Z
DTEND:20251023T190000Z
END:VEVENT
END:VCALENDAR
