BEGIN:VCALENDAR
VERSION:2.0
PRODID:SchoolNow
CALSCALE:GREGORIAN
BEGIN:VEVENT
UID:0cb78272-9c13-11f0-9a86-0a58a9feac02
DTSTAMP:20251216T200026Z
SUMMARY:Jog a thon - Grade 1
URL;VALUE=URI:https://www.gusdschools.org/calendar/8671989/jog-a-thon-grade
 -1
DTSTART:20251022T180000Z
DTEND:20251022T190000Z
END:VEVENT
END:VCALENDAR
