BEGIN:VCALENDAR
VERSION:2.0
PRODID:SchoolNow
CALSCALE:GREGORIAN
BEGIN:VEVENT
UID:0cb780d8-9c13-11f0-aa7d-0a58a9feac02
DTSTAMP:20251216T200026Z
SUMMARY:Jog a thon - Grade 2
URL;VALUE=URI:https://www.gusdschools.org/calendar/8671988/jog-a-thon-grade
 -2
DTSTART:20251022T160000Z
DTEND:20251022T170000Z
END:VEVENT
END:VCALENDAR
