BEGIN:VCALENDAR
VERSION:2.0
PRODID:SchoolNow
CALSCALE:GREGORIAN
BEGIN:VEVENT
UID:0cb76008-9c13-11f0-a703-0a58a9feac02
DTSTAMP:20251216T200026Z
SUMMARY:Jog a thon - Grade 4
URL;VALUE=URI:https://www.gusdschools.org/calendar/8671987/jog-a-thon-grade
 -4
DTSTART:20251021T180000Z
DTEND:20251021T190000Z
END:VEVENT
END:VCALENDAR
