BEGIN:VCALENDAR
VERSION:2.0
PRODID:SchoolNow
CALSCALE:GREGORIAN
BEGIN:VEVENT
UID:e92272cc-98e3-11f0-bcb6-0a58a9feac02
DTSTAMP:20251216T200026Z
SUMMARY:Site Council
URL;VALUE=URI:https://www.gusdschools.org/calendar/8658034/site-council
DTSTART:20260826T223000Z
DTEND:20260826T233000Z
END:VEVENT
END:VCALENDAR
