BEGIN:VCALENDAR
VERSION:2.0
PRODID:SchoolNow
CALSCALE:GREGORIAN
BEGIN:VEVENT
UID:e9226f20-98e3-11f0-8b21-0a58a9feac02
DTSTAMP:20251216T200026Z
SUMMARY:Site Council
URL;VALUE=URI:https://www.gusdschools.org/calendar/8658030/site-council
DTSTART:20260422T223000Z
DTEND:20260422T233000Z
END:VEVENT
END:VCALENDAR
