BEGIN:VCALENDAR
VERSION:2.0
PRODID:SchoolNow
CALSCALE:GREGORIAN
BEGIN:VEVENT
UID:e9226e44-98e3-11f0-a55a-0a58a9feac02
DTSTAMP:20251216T200026Z
SUMMARY:Site Council
URL;VALUE=URI:https://www.gusdschools.org/calendar/8658029/site-council
DTSTART:20260325T223000Z
DTEND:20260325T233000Z
END:VEVENT
END:VCALENDAR
