BEGIN:VCALENDAR
VERSION:2.0
PRODID:SchoolNow
CALSCALE:GREGORIAN
BEGIN:VEVENT
UID:e9226d5e-98e3-11f0-a39b-0a58a9feac02
DTSTAMP:20251216T200026Z
SUMMARY:Site Council
URL;VALUE=URI:https://www.gusdschools.org/calendar/8658028/site-council
DTSTART:20260225T233000Z
DTEND:20260226T003000Z
END:VEVENT
END:VCALENDAR
