BEGIN:VCALENDAR
VERSION:2.0
PRODID:SchoolNow
CALSCALE:GREGORIAN
BEGIN:VEVENT
UID:e9226c82-98e3-11f0-b91c-0a58a9feac02
DTSTAMP:20251216T200026Z
SUMMARY:Site Council
URL;VALUE=URI:https://www.gusdschools.org/calendar/8658027/site-council
DTSTART:20260128T233000Z
DTEND:20260129T003000Z
END:VEVENT
END:VCALENDAR
