BEGIN:VCALENDAR
VERSION:2.0
PRODID:SchoolNow
CALSCALE:GREGORIAN
BEGIN:VEVENT
UID:e92269c6-98e3-11f0-a01b-0a58a9feac02
DTSTAMP:20251216T200026Z
SUMMARY:Site Council
URL;VALUE=URI:https://www.gusdschools.org/calendar/8658024/site-council
DTSTART:20251022T223000Z
DTEND:20251022T233000Z
END:VEVENT
END:VCALENDAR
