BEGIN:VCALENDAR
VERSION:2.0
PRODID:SchoolNow
CALSCALE:GREGORIAN
BEGIN:VEVENT
UID:e92268e0-98e3-11f0-af75-0a58a9feac02
DTSTAMP:20251216T200026Z
SUMMARY:Site Council
URL;VALUE=URI:https://www.gusdschools.org/calendar/8658023/site-council
DTSTART:20250924T223000Z
DTEND:20250924T233000Z
END:VEVENT
END:VCALENDAR
