BEGIN:VCALENDAR
VERSION:2.0
PRODID:SchoolNow
CALSCALE:GREGORIAN
BEGIN:VEVENT
UID:e92267f0-98e3-11f0-a68b-0a58a9feac02
DTSTAMP:20251216T200026Z
SUMMARY:Site Council
URL;VALUE=URI:https://www.gusdschools.org/calendar/8658022/site-council
DTSTART:20250827T223000Z
DTEND:20250827T233000Z
END:VEVENT
END:VCALENDAR
