BEGIN:VCALENDAR
VERSION:2.0
PRODID:SchoolNow
CALSCALE:GREGORIAN
BEGIN:VEVENT
UID:fe86489c-8b59-11f0-8abe-0a58a9feac02
DTSTAMP:20251216T200026Z
SUMMARY:GPA Movie Night in Hillcrest Hall
URL;VALUE=URI:https://www.gusdschools.org/calendar/8588483/gpa-movie-night-
 in-hillcrest-hall
DTSTART:20251011T003000Z
DTEND:20251011T040000Z
END:VEVENT
END:VCALENDAR
