BEGIN:VCALENDAR
VERSION:2.0
PRODID:SchoolNow
CALSCALE:GREGORIAN
BEGIN:VEVENT
UID:fe86450e-8b59-11f0-a1d1-0a58a9feac02
DTSTAMP:20251216T200026Z
SUMMARY:GPA Bingo Night in Hillcrest Hall
URL;VALUE=URI:https://www.gusdschools.org/calendar/8588482/gpa-bingo-night-
 in-hillcrest-hall
DTSTART:20250927T003000Z
DTEND:20250927T020000Z
END:VEVENT
END:VCALENDAR
