BEGIN:VCALENDAR
VERSION:2.0
PRODID:SchoolNow
CALSCALE:GREGORIAN
BEGIN:VEVENT
UID:b5614e8c-7d35-11f0-8f7f-0a58a9feac02
DTSTAMP:20251216T200026Z
SUMMARY:Hillcrest Middle School Dance
URL;VALUE=URI:https://www.gusdschools.org/calendar/8522536/hillcrest-middle
 -school-dance
DTSTART:20260516T010000Z
DTEND:20260516T030000Z
END:VEVENT
END:VCALENDAR
