BEGIN:VCALENDAR
VERSION:2.0
PRODID:SchoolNow
CALSCALE:GREGORIAN
BEGIN:VEVENT
UID:b5614bee-7d35-11f0-8109-0a58a9feac02
DTSTAMP:20251216T200026Z
SUMMARY:Hillcrest Middle School Dance
URL;VALUE=URI:https://www.gusdschools.org/calendar/8522534/hillcrest-middle
 -school-dance
DTSTART:20251206T020000Z
DTEND:20251206T040000Z
END:VEVENT
END:VCALENDAR
