BEGIN:VCALENDAR
VERSION:2.0
PRODID:SchoolNow
CALSCALE:GREGORIAN
BEGIN:VEVENT
UID:b5614838-7d35-11f0-af68-0a58a9feac02
DTSTAMP:20251216T200026Z
SUMMARY:Hillcrest Middle School Dance
URL;VALUE=URI:https://www.gusdschools.org/calendar/8522533/hillcrest-middle
 -school-dance
DTSTART:20250920T010000Z
DTEND:20250920T030000Z
END:VEVENT
END:VCALENDAR
