BEGIN:VCALENDAR
VERSION:2.0
PRODID:SchoolNow
CALSCALE:GREGORIAN
BEGIN:VEVENT
UID:3e09b61c-473e-11f0-aae1-0a58a9feac02
DTSTAMP:20251216T200026Z
SUMMARY:HMS Color Run
URL;VALUE=URI:https://www.gusdschools.org/calendar/8289578/hms-color-run
DTSTART:20260515T210000Z
DTEND:20260515T221500Z
END:VEVENT
END:VCALENDAR
