BEGIN:VCALENDAR
VERSION:2.0
PRODID:SchoolNow
CALSCALE:GREGORIAN
BEGIN:VEVENT
UID:40cb5dca-470b-11f0-bc6a-0a58a9feac02
DTSTAMP:20251216T200026Z
SUMMARY:8th Grade Graduation Breakfast
URL;VALUE=URI:https://www.gusdschools.org/calendar/8287992/8th-grade-gradua
 tion-breakfast
DTSTART:20260603T154500Z
DTEND:20260603T173000Z
END:VEVENT
END:VCALENDAR
