BEGIN:VCALENDAR
VERSION:2.0
PRODID:SchoolNow
CALSCALE:GREGORIAN
BEGIN:VEVENT
UID:40cb5c94-470b-11f0-a832-0a58a9feac02
DTSTAMP:20251216T200026Z
SUMMARY:Trimester 1 Awards Ceremony
URL;VALUE=URI:https://www.gusdschools.org/calendar/8287991/trimester-1-awar
 ds-ceremony
DTSTART:20260327T153000Z
DTEND:20260327T181500Z
END:VEVENT
END:VCALENDAR
