BEGIN:VCALENDAR
VERSION:2.0
PRODID:SchoolNow
CALSCALE:GREGORIAN
BEGIN:VEVENT
UID:40cb5974-470b-11f0-88f2-0a58a9feac02
DTSTAMP:20251216T200026Z
SUMMARY:Trimester 1 Awards Ceremony
URL;VALUE=URI:https://www.gusdschools.org/calendar/8287990/trimester-1-awar
 ds-ceremony
DTSTART:20251218T163000Z
DTEND:20251218T191500Z
END:VEVENT
END:VCALENDAR
