BEGIN:VCALENDAR
VERSION:2.0
PRODID:SchoolNow
CALSCALE:GREGORIAN
BEGIN:VEVENT
UID:491f3184-4672-11f0-861f-0a58a9feac02
DTSTAMP:20251216T200026Z
SUMMARY:Hillcrest Open House
URL;VALUE=URI:https://www.gusdschools.org/calendar/8283715/hillcrest-open-h
 ouse
DTSTART:20260508T000000Z
DTEND:20260508T010000Z
END:VEVENT
END:VCALENDAR
