BEGIN:VCALENDAR
VERSION:2.0
PRODID:SchoolNow
CALSCALE:GREGORIAN
BEGIN:VEVENT
UID:491f09a2-4672-11f0-ba28-0a58a9feac02
DTSTAMP:20251216T200026Z
SUMMARY:Hillcrest Back to School Night
URL;VALUE=URI:https://www.gusdschools.org/calendar/8283714/hillcrest-back-t
 o-school-night
DTSTART:20250822T000000Z
DTEND:20250822T011500Z
END:VEVENT
END:VCALENDAR
