BEGIN:VCALENDAR
VERSION:2.0
PRODID:SchoolNow
CALSCALE:GREGORIAN
BEGIN:VEVENT
UID:a278289a-26fa-11f0-a860-0a58a9feac02
DTSTAMP:20251216T200026Z
SUMMARY:GUSD Board Meeting
LOCATION:725 Bloomfield Rd Room 18\, Sebstopol\, CA  95472
URL;VALUE=URI:https://www.gusdschools.org/calendar/8049187/gusd-board-meeti
 ng
DTSTART:20251119T010000Z
DTEND:20251119T040000Z
END:VEVENT
END:VCALENDAR
