BEGIN:VCALENDAR
VERSION:2.0
PRODID:SchoolNow
CALSCALE:GREGORIAN
BEGIN:VEVENT
UID:9b2dbaf8-e90d-11ef-8ac5-0e138e5eb8cd
DTSTAMP:20251216T200026Z
SUMMARY:Fall Picture Day
URL;VALUE=URI:https://www.gusdschools.org/calendar/7456591/fall-picture-day
DTSTART:20251008T153000Z
DTEND:20251008T210000Z
END:VEVENT
END:VCALENDAR
