BEGIN:VCALENDAR
VERSION:2.0
PRODID:SchoolNow
CALSCALE:GREGORIAN
BEGIN:VEVENT
UID:9b2db724-e90d-11ef-a1fd-0e138e5eb8cd
DTSTAMP:20251216T200026Z
SUMMARY:Make Up Picture Day
URL;VALUE=URI:https://www.gusdschools.org/calendar/7456590/make-up-picture-
 day
DTSTART:20251104T163000Z
DTEND:20251104T193000Z
END:VEVENT
END:VCALENDAR
