BEGIN:VCALENDAR
VERSION:2.0
PRODID:SchoolNow
CALSCALE:GREGORIAN
BEGIN:VEVENT
UID:a647ee86-c0d1-11ef-b6eb-025dee24bd55
DTSTAMP:20251216T200026Z
SUMMARY:GPA Meeting
LOCATION:Hillcrest Middle School
URL;VALUE=URI:https://www.gusdschools.org/calendar/7212033/gpa-meeting
DTSTART:20260820T010000Z
DTEND:20260820T020000Z
END:VEVENT
END:VCALENDAR
