BEGIN:VCALENDAR
VERSION:2.0
PRODID:SchoolNow
CALSCALE:GREGORIAN
BEGIN:VEVENT
UID:efeed9a6-a785-11ef-ac24-0e6f9124008d
DTSTAMP:20251216T200026Z
SUMMARY:GPA Meeting
LOCATION:Hillcrest Middle School
URL;VALUE=URI:https://www.gusdschools.org/calendar/7053344/gpa-meeting
DTSTART:20260716T010000Z
DTEND:20260716T020000Z
END:VEVENT
END:VCALENDAR
