BEGIN:VCALENDAR
VERSION:2.0
PRODID:SchoolNow
CALSCALE:GREGORIAN
BEGIN:VEVENT
UID:cc627f86-7ae6-11ef-84b7-0a58a9feac02
DTSTAMP:20251216T200026Z
SUMMARY:GPA Meeting
LOCATION:Hillcrest Middle School
URL;VALUE=URI:https://www.gusdschools.org/calendar/6683213/gpa-meeting
DTSTART:20260521T010000Z
DTEND:20260521T020000Z
END:VEVENT
END:VCALENDAR
