BEGIN:VCALENDAR
VERSION:2.0
PRODID:SchoolNow
CALSCALE:GREGORIAN
BEGIN:VEVENT
UID:ecdea518-5d37-11ef-b254-021c04e8b623
DTSTAMP:20251216T200026Z
SUMMARY:GPA Meeting
LOCATION:Hillcrest Middle School
URL;VALUE=URI:https://www.gusdschools.org/calendar/6419879/gpa-meeting
DTSTART:20260416T010000Z
DTEND:20260416T020000Z
END:VEVENT
END:VCALENDAR
