BEGIN:VCALENDAR
VERSION:2.0
PRODID:SchoolNow
CALSCALE:GREGORIAN
BEGIN:VEVENT
UID:9f340ee6-4f79-11ef-b482-0a58a9feac02
DTSTAMP:20251216T200026Z
SUMMARY:GPA Meeting
LOCATION:Hillcrest Middle School
URL;VALUE=URI:https://www.gusdschools.org/calendar/6335542/gpa-meeting
DTSTART:20260122T020000Z
DTEND:20260122T030000Z
END:VEVENT
END:VCALENDAR
