BEGIN:VCALENDAR
VERSION:2.0
PRODID:SchoolNow
CALSCALE:GREGORIAN
BEGIN:VEVENT
UID:9f33e5ce-4f79-11ef-a135-0a58a9feac02
DTSTAMP:20251216T200026Z
SUMMARY:GPA Meeting
LOCATION:Hillcrest Middle School
URL;VALUE=URI:https://www.gusdschools.org/calendar/6335540/gpa-meeting
DTSTART:20251120T020000Z
DTEND:20251120T030000Z
END:VEVENT
END:VCALENDAR
