BEGIN:VCALENDAR
VERSION:2.0
PRODID:SchoolNow
CALSCALE:GREGORIAN
BEGIN:VEVENT
UID:9f33b784-4f79-11ef-8a23-0a58a9feac02
DTSTAMP:20251216T200026Z
SUMMARY:GPA Meeting
LOCATION:Hillcrest Middle School
URL;VALUE=URI:https://www.gusdschools.org/calendar/6335538/gpa-meeting
DTSTART:20250918T010000Z
DTEND:20250918T020000Z
END:VEVENT
END:VCALENDAR
